BEGIN:VCALENDAR
VERSION:2.0
PRODID:-//Tukios.com/
BEGIN:VEVENT
UID:820bb88b-3669-406f-a707-7013e1037ffd@www.dermittfuneralhome.com
DTSTAMP:20260421T090738Z
DTSTART:20260422T150000Z
DTEND:20260422T170000Z
SUMMARY:Visitation
DESCRIPTION:
URL:https://www.dermittfuneralhome.com/obituaries/patricia-ann-embry
LOCATION:Rabbit Flat Baptist Church Rabbit Flat Rd.  Caneyville KY 42721
GEO:37.3630295;-86.4321116
END:VEVENT
END:VCALENDAR